BEGIN:VCALENDAR
VERSION:2.0
PRODID:-//Wiedau-Walsede - ECPv5.16.4//NONSGML v1.0//EN
CALSCALE:GREGORIAN
METHOD:PUBLISH
X-WR-CALNAME:Wiedau-Walsede
X-ORIGINAL-URL:https://wiedau-walsede.de
X-WR-CALDESC:Veranstaltungen für Wiedau-Walsede
BEGIN:VTIMEZONE
TZID:Europe/Berlin
BEGIN:DAYLIGHT
TZOFFSETFROM:+0100
TZOFFSETTO:+0200
TZNAME:CEST
DTSTART:20190331T010000
END:DAYLIGHT
BEGIN:STANDARD
TZOFFSETFROM:+0200
TZOFFSETTO:+0100
TZNAME:CET
DTSTART:20191027T010000
END:STANDARD
END:VTIMEZONE
BEGIN:VEVENT
DTSTART;TZID=Europe/Berlin:20190612T190000
DTEND;TZID=Europe/Berlin:20190612T210000
DTSTAMP:20260422T234805
CREATED:20190602T124119Z
LAST-MODIFIED:20190602T124119Z
UID:1788-1560366000-1560373200@wiedau-walsede.de
SUMMARY:Bürgerversammlung
DESCRIPTION:Einladung Bürgerversammlung und DorfWerkstatt
URL:https://wiedau-walsede.de/veranstaltung/buergerversammlung/
LOCATION:Bürgerhaus Bothel\, Horstweg 19\, Bothel\, 27386\, Deutschland
END:VEVENT
END:VCALENDAR