BEGIN:VCALENDAR
VERSION:2.0
PRODID:-//Wiedau-Walsede - ECPv5.16.4//NONSGML v1.0//EN
CALSCALE:GREGORIAN
METHOD:PUBLISH
X-WR-CALNAME:Wiedau-Walsede
X-ORIGINAL-URL:https://wiedau-walsede.de
X-WR-CALDESC:Veranstaltungen für Wiedau-Walsede
BEGIN:VTIMEZONE
TZID:Europe/Berlin
BEGIN:DAYLIGHT
TZOFFSETFROM:+0100
TZOFFSETTO:+0200
TZNAME:CEST
DTSTART:20190331T010000
END:DAYLIGHT
BEGIN:STANDARD
TZOFFSETFROM:+0200
TZOFFSETTO:+0100
TZNAME:CET
DTSTART:20191027T010000
END:STANDARD
END:VTIMEZONE
BEGIN:VEVENT
DTSTART;TZID=Europe/Berlin:20191121T180000
DTEND;TZID=Europe/Berlin:20191121T200000
DTSTAMP:20260422T110015
CREATED:20191113T133257Z
LAST-MODIFIED:20191113T133257Z
UID:1975-1574359200-1574366400@wiedau-walsede.de
SUMMARY:Örtlicher Arbeitskreis Bothel
DESCRIPTION:191121 EinladungBothel
URL:https://wiedau-walsede.de/veranstaltung/oertlicher-arbeitskreis-bothel/
LOCATION:Bürgerhaus Bothel\, Horstweg 19\, Bothel\, 27386\, Deutschland
END:VEVENT
END:VCALENDAR