BEGIN:VCALENDAR
VERSION:2.0
PRODID:-//Wiedau-Walsede - ECPv5.16.4//NONSGML v1.0//EN
CALSCALE:GREGORIAN
METHOD:PUBLISH
X-WR-CALNAME:Wiedau-Walsede
X-ORIGINAL-URL:https://wiedau-walsede.de
X-WR-CALDESC:Veranstaltungen für Wiedau-Walsede
BEGIN:VTIMEZONE
TZID:Europe/Berlin
BEGIN:DAYLIGHT
TZOFFSETFROM:+0100
TZOFFSETTO:+0200
TZNAME:CEST
DTSTART:20190331T010000
END:DAYLIGHT
BEGIN:STANDARD
TZOFFSETFROM:+0200
TZOFFSETTO:+0100
TZNAME:CET
DTSTART:20191027T010000
END:STANDARD
END:VTIMEZONE
BEGIN:VEVENT
DTSTART;TZID=Europe/Berlin:20191127T180000
DTEND;TZID=Europe/Berlin:20191127T200000
DTSTAMP:20260422T104351
CREATED:20191113T133523Z
LAST-MODIFIED:20191113T133523Z
UID:1978-1574877600-1574884800@wiedau-walsede.de
SUMMARY:Örtlicher Arbeitskreis Kirchwalsede
DESCRIPTION:191127 EinladungKirchwalsede
URL:https://wiedau-walsede.de/veranstaltung/oertlicher-arbeitskreis-kirchwalsede/
LOCATION:Gemeindehaus Kirchwalsede\, Westerwalseder Straße 7\, Kirchwalsede
END:VEVENT
END:VCALENDAR